Package: ExperimentHubData Version: 1.18.0 Command: chmod a+r ExperimentHubData -R && C:\Users\biocbuild\bbs-3.13-bioc\R\bin\R.exe CMD build --keep-empty-dirs --no-resave-data ExperimentHubData StartedAt: 2021-10-14 14:03:28 -0400 (Thu, 14 Oct 2021) EndedAt: 2021-10-14 14:04:17 -0400 (Thu, 14 Oct 2021) EllapsedTime: 48.4 seconds RetCode: 0 Status: OK PackageFile: ExperimentHubData_1.18.0.tar.gz PackageFileSize: 227.4 KiB