Package: ExploreModelMatrix Version: 1.4.0 Command: /Library/Frameworks/R.framework/Versions/Current/Resources/bin/R CMD check --install=check:ExploreModelMatrix.install-out.txt --library=/Library/Frameworks/R.framework/Versions/Current/Resources/library --no-vignettes --timings ExploreModelMatrix_1.4.0.tar.gz StartedAt: 2021-10-14 18:56:55 -0400 (Thu, 14 Oct 2021) EndedAt: 2021-10-14 18:58:22 -0400 (Thu, 14 Oct 2021) EllapsedTime: 86.2 seconds RetCode: 0 Status: OK CheckDir: ExploreModelMatrix.Rcheck Warnings: 0