Package: ExploreModelMatrix Version: 1.4.0 Command: /home/biocbuild/bbs-3.13-bioc/R/bin/R CMD check --install=check:ExploreModelMatrix.install-out.txt --library=/home/biocbuild/bbs-3.13-bioc/R/library --no-vignettes --timings ExploreModelMatrix_1.4.0.tar.gz StartedAt: 2021-10-14 09:48:37 -0400 (Thu, 14 Oct 2021) EndedAt: 2021-10-14 09:49:32 -0400 (Thu, 14 Oct 2021) EllapsedTime: 54.2 seconds RetCode: 0 Status: OK CheckDir: ExploreModelMatrix.Rcheck Warnings: 0