Package: ExploreModelMatrix Version: 1.4.0 Command: /home/biocbuild/bbs-3.13-bioc/R/bin/R CMD INSTALL ExploreModelMatrix StartedAt: 2021-10-14 06:19:41 -0400 (Thu, 14 Oct 2021) EndedAt: 2021-10-14 06:19:49 -0400 (Thu, 14 Oct 2021) EllapsedTime: 8.3 seconds RetCode: 0 Status: OK