Package: FEAST Version: 1.0.0 Command: /Library/Frameworks/R.framework/Versions/Current/Resources/bin/R CMD check --install=check:FEAST.install-out.txt --library=/Library/Frameworks/R.framework/Versions/Current/Resources/library --no-vignettes --timings FEAST_1.0.0.tar.gz StartedAt: 2021-10-14 19:01:02 -0400 (Thu, 14 Oct 2021) EndedAt: 2021-10-14 19:04:43 -0400 (Thu, 14 Oct 2021) EllapsedTime: 220.9 seconds RetCode: 0 Status: OK CheckDir: FEAST.Rcheck Warnings: 0