Package: FELLA Version: 1.12.0 Command: /Library/Frameworks/R.framework/Versions/Current/Resources/bin/R CMD check --install=check:FELLA.install-out.txt --library=/Library/Frameworks/R.framework/Versions/Current/Resources/library --no-vignettes --timings FELLA_1.12.0.tar.gz StartedAt: 2021-10-14 19:01:13 -0400 (Thu, 14 Oct 2021) EndedAt: 2021-10-14 19:04:53 -0400 (Thu, 14 Oct 2021) EllapsedTime: 220.7 seconds RetCode: 0 Status: OK CheckDir: FELLA.Rcheck Warnings: 0