Package: FELLA Version: 1.12.0 Command: /home/biocbuild/bbs-3.13-bioc/R/bin/R CMD INSTALL FELLA StartedAt: 2021-10-14 06:08:28 -0400 (Thu, 14 Oct 2021) EndedAt: 2021-10-14 06:08:43 -0400 (Thu, 14 Oct 2021) EllapsedTime: 15.1 seconds RetCode: 0 Status: OK