Package: FastqCleaner Version: 1.10.0 Command: /home/biocbuild/bbs-3.13-bioc/R/bin/R CMD build --keep-empty-dirs --no-resave-data FastqCleaner StartedAt: 2021-10-14 07:15:13 -0400 (Thu, 14 Oct 2021) EndedAt: 2021-10-14 07:16:28 -0400 (Thu, 14 Oct 2021) EllapsedTime: 75.5 seconds RetCode: 0 Status: OK PackageFile: FastqCleaner_1.10.0.tar.gz PackageFileSize: 4.124 MiB