Package: FastqCleaner Version: 1.10.0 Command: C:\cygwin\bin\curl.exe -O http://155.52.207.165/BBS/3.13/bioc/src/contrib/FastqCleaner_1.10.0.tar.gz && rm -rf FastqCleaner.buildbin-libdir && mkdir FastqCleaner.buildbin-libdir && C:\Users\biocbuild\bbs-3.13-bioc\R\bin\R.exe CMD INSTALL --merge-multiarch --build --library=FastqCleaner.buildbin-libdir FastqCleaner_1.10.0.tar.gz && C:\Users\biocbuild\bbs-3.13-bioc\R\bin\R.exe CMD INSTALL FastqCleaner_1.10.0.zip && rm FastqCleaner_1.10.0.tar.gz FastqCleaner_1.10.0.zip StartedAt: 2021-10-14 11:20:22 -0400 (Thu, 14 Oct 2021) EndedAt: 2021-10-14 11:22:55 -0400 (Thu, 14 Oct 2021) EllapsedTime: 153.0 seconds RetCode: 0 Status: OK