Package: FitHiC Version: 1.18.0 Command: /home/biocbuild/bbs-3.13-bioc/R/bin/R CMD build --keep-empty-dirs --no-resave-data FitHiC StartedAt: 2021-10-14 07:16:18 -0400 (Thu, 14 Oct 2021) EndedAt: 2021-10-14 07:18:41 -0400 (Thu, 14 Oct 2021) EllapsedTime: 142.4 seconds RetCode: 0 Status: OK PackageFile: FitHiC_1.18.0.tar.gz PackageFileSize: 27.55 MiB