git_url: https://git.bioconductor.org/packages/FlowSOM git_branch: RELEASE_3_13 git_last_commit: 663dedc git_last_commit_date: 2021-05-19 12:10:09 -0400 (Wed, 19 May 2021) Package: FlowSOM Version: 2.0.0 Maintainer: Sofie Van Gassen MaintainerEmail: sofie.vangassen at ugent.be