Package: FunChIP Version: 1.18.0 Command: /home/biocbuild/bbs-3.13-bioc/R/bin/R CMD build --keep-empty-dirs --no-resave-data FunChIP StartedAt: 2021-10-14 07:17:53 -0400 (Thu, 14 Oct 2021) EndedAt: 2021-10-14 07:20:42 -0400 (Thu, 14 Oct 2021) EllapsedTime: 168.9 seconds RetCode: 0 Status: OK PackageFile: FunChIP_1.18.0.tar.gz PackageFileSize: 23.5 MiB