Package: GA4GHclient Version: 1.16.0 Command: C:\cygwin\bin\curl.exe -O http://155.52.207.165/BBS/3.13/bioc/src/contrib/GA4GHclient_1.16.0.tar.gz && rm -rf GA4GHclient.buildbin-libdir && mkdir GA4GHclient.buildbin-libdir && C:\Users\biocbuild\bbs-3.13-bioc\R\bin\R.exe CMD INSTALL --merge-multiarch --build --library=GA4GHclient.buildbin-libdir GA4GHclient_1.16.0.tar.gz && C:\Users\biocbuild\bbs-3.13-bioc\R\bin\R.exe CMD INSTALL GA4GHclient_1.16.0.zip && rm GA4GHclient_1.16.0.tar.gz GA4GHclient_1.16.0.zip StartedAt: 2021-10-14 10:39:47 -0400 (Thu, 14 Oct 2021) EndedAt: 2021-10-14 10:41:09 -0400 (Thu, 14 Oct 2021) EllapsedTime: 81.8 seconds RetCode: 0 Status: OK