git_url: https://git.bioconductor.org/packages/GARS git_branch: RELEASE_3_13 git_last_commit: 4d2039e git_last_commit_date: 2021-05-19 12:33:48 -0400 (Wed, 19 May 2021) Package: GARS Version: 1.12.0 Maintainer: Mattia Chiesa MaintainerEmail: mattia.chiesa at hotmail.it