Package: GARS Version: 1.12.0 Command: chmod a+r GARS -R && C:\Users\biocbuild\bbs-3.13-bioc\R\bin\R.exe --arch x64 CMD build --keep-empty-dirs --no-resave-data GARS StartedAt: 2021-10-14 14:19:11 -0400 (Thu, 14 Oct 2021) EndedAt: 2021-10-14 14:21:28 -0400 (Thu, 14 Oct 2021) EllapsedTime: 136.4 seconds RetCode: 0 Status: OK PackageFile: GARS_1.12.0.tar.gz PackageFileSize: 429 KiB