Package: GARS Version: 1.12.0 Command: C:\Users\biocbuild\bbs-3.13-bioc\R\bin\R.exe --arch x64 CMD INSTALL --no-multiarch GARS StartedAt: 2021-10-14 10:30:25 -0400 (Thu, 14 Oct 2021) EndedAt: 2021-10-14 10:31:40 -0400 (Thu, 14 Oct 2021) EllapsedTime: 75.6 seconds RetCode: 0 Status: OK