Package: GAprediction Version: 1.18.0 Command: C:\cygwin\bin\curl.exe -O http://155.52.207.165/BBS/3.13/bioc/src/contrib/GAprediction_1.18.0.tar.gz && rm -rf GAprediction.buildbin-libdir && mkdir GAprediction.buildbin-libdir && C:\Users\biocbuild\bbs-3.13-bioc\R\bin\R.exe CMD INSTALL --merge-multiarch --build --library=GAprediction.buildbin-libdir GAprediction_1.18.0.tar.gz && C:\Users\biocbuild\bbs-3.13-bioc\R\bin\R.exe CMD INSTALL GAprediction_1.18.0.zip && rm GAprediction_1.18.0.tar.gz GAprediction_1.18.0.zip StartedAt: 2021-10-14 07:07:26 -0400 (Thu, 14 Oct 2021) EndedAt: 2021-10-14 07:11:05 -0400 (Thu, 14 Oct 2021) EllapsedTime: 219.7 seconds RetCode: 0 Status: OK