Package: GCSConnection Version: 1.4.0 Command: rm -rf GCSConnection.buildbin-libdir && mkdir GCSConnection.buildbin-libdir && C:\Users\biocbuild\bbs-3.13-bioc\R\bin\R.exe CMD INSTALL --merge-multiarch --build --library=GCSConnection.buildbin-libdir GCSConnection_1.4.0.tar.gz StartedAt: 2021-10-15 09:26:52 -0400 (Fri, 15 Oct 2021) EndedAt: 2021-10-15 09:28:15 -0400 (Fri, 15 Oct 2021) EllapsedTime: 82.7 seconds RetCode: 0 Status: OK PackageFile: GCSConnection_1.4.0.zip PackageFileSize: 1.218 MiB