Package: GDCRNATools Version: 1.13.1 Command: /home/biocbuild/bbs-3.13-bioc/R/bin/R CMD INSTALL GDCRNATools StartedAt: 2021-10-14 06:33:34 -0400 (Thu, 14 Oct 2021) EndedAt: 2021-10-14 06:34:25 -0400 (Thu, 14 Oct 2021) EllapsedTime: 51.4 seconds RetCode: 0 Status: OK