Package: GDCRNATools Version: 1.13.1 Command: C:\cygwin\bin\curl.exe -O http://155.52.207.165/BBS/3.13/bioc/src/contrib/GDCRNATools_1.13.1.tar.gz && rm -rf GDCRNATools.buildbin-libdir && mkdir GDCRNATools.buildbin-libdir && C:\Users\biocbuild\bbs-3.13-bioc\R\bin\R.exe CMD INSTALL --merge-multiarch --build --library=GDCRNATools.buildbin-libdir GDCRNATools_1.13.1.tar.gz && C:\Users\biocbuild\bbs-3.13-bioc\R\bin\R.exe CMD INSTALL GDCRNATools_1.13.1.zip && rm GDCRNATools_1.13.1.tar.gz GDCRNATools_1.13.1.zip StartedAt: 2021-10-14 11:08:05 -0400 (Thu, 14 Oct 2021) EndedAt: 2021-10-14 11:09:34 -0400 (Thu, 14 Oct 2021) EllapsedTime: 88.4 seconds RetCode: 0 Status: OK