Package: GDSArray Version: 1.12.0 Command: chmod a+r GDSArray -R && C:\Users\biocbuild\bbs-3.13-bioc\R\bin\R.exe CMD build --keep-empty-dirs --no-resave-data GDSArray StartedAt: 2021-10-14 14:20:45 -0400 (Thu, 14 Oct 2021) EndedAt: 2021-10-14 14:21:36 -0400 (Thu, 14 Oct 2021) EllapsedTime: 50.8 seconds RetCode: 0 Status: OK PackageFile: GDSArray_1.12.0.tar.gz PackageFileSize: 291.2 KiB