Package: GDSArray Version: 1.12.0 Command: C:\Users\biocbuild\bbs-3.13-bioc\R\bin\R.exe CMD check --force-multiarch --install=check:GDSArray.install-out.txt --library=C:\Users\biocbuild\bbs-3.13-bioc\R\library --no-vignettes --timings GDSArray_1.12.0.tar.gz StartedAt: 2021-10-14 23:25:54 -0400 (Thu, 14 Oct 2021) EndedAt: 2021-10-14 23:29:05 -0400 (Thu, 14 Oct 2021) EllapsedTime: 190.9 seconds RetCode: 0 Status: OK CheckDir: GDSArray.Rcheck Warnings: 0