Package: GEOmetadb Version: 1.54.0 Command: C:\cygwin\bin\curl.exe -O http://155.52.207.165/BBS/3.13/bioc/src/contrib/GEOmetadb_1.54.0.tar.gz && rm -rf GEOmetadb.buildbin-libdir && mkdir GEOmetadb.buildbin-libdir && C:\Users\biocbuild\bbs-3.13-bioc\R\bin\R.exe CMD INSTALL --merge-multiarch --build --library=GEOmetadb.buildbin-libdir GEOmetadb_1.54.0.tar.gz && C:\Users\biocbuild\bbs-3.13-bioc\R\bin\R.exe CMD INSTALL GEOmetadb_1.54.0.zip && rm GEOmetadb_1.54.0.tar.gz GEOmetadb_1.54.0.zip StartedAt: 2021-10-14 10:10:05 -0400 (Thu, 14 Oct 2021) EndedAt: 2021-10-14 10:11:11 -0400 (Thu, 14 Oct 2021) EllapsedTime: 65.8 seconds RetCode: 0 Status: OK