Package: GEOquery Version: 2.60.0 Command: /Library/Frameworks/R.framework/Versions/Current/Resources/bin/R CMD INSTALL GEOquery StartedAt: 2021-10-14 09:38:07 -0400 (Thu, 14 Oct 2021) EndedAt: 2021-10-14 09:38:55 -0400 (Thu, 14 Oct 2021) EllapsedTime: 47.3 seconds RetCode: 0 Status: OK