git_url: https://git.bioconductor.org/packages/GIGSEA git_branch: RELEASE_3_13 git_last_commit: ae9c9f8 git_last_commit_date: 2021-05-19 12:36:08 -0400 (Wed, 19 May 2021) Package: GIGSEA Version: 1.10.0 Maintainer: Shijia Zhu MaintainerEmail: shijia.zhu at mssm.edu