Package: GIGSEA Version: 1.10.0 Command: /Library/Frameworks/R.framework/Versions/Current/Resources/bin/R CMD build --keep-empty-dirs --no-resave-data GIGSEA StartedAt: 2021-10-14 12:19:12 -0400 (Thu, 14 Oct 2021) EndedAt: 2021-10-14 12:23:31 -0400 (Thu, 14 Oct 2021) EllapsedTime: 258.9 seconds RetCode: 0 Status: OK PackageFile: GIGSEA_1.10.0.tar.gz PackageFileSize: 1.319 MiB