Package: GIGSEA Version: 1.10.0 Command: /home/biocbuild/bbs-3.13-bioc/R/bin/R CMD check --install=check:GIGSEA.install-out.txt --library=/home/biocbuild/bbs-3.13-bioc/R/library --no-vignettes --timings GIGSEA_1.10.0.tar.gz StartedAt: 2021-10-14 10:01:44 -0400 (Thu, 14 Oct 2021) EndedAt: 2021-10-14 10:02:50 -0400 (Thu, 14 Oct 2021) EllapsedTime: 65.8 seconds RetCode: 0 Status: OK CheckDir: GIGSEA.Rcheck Warnings: 0