Package: GIGSEA Version: 1.10.0 Command: chmod a+r GIGSEA -R && C:\Users\biocbuild\bbs-3.13-bioc\R\bin\R.exe CMD build --keep-empty-dirs --no-resave-data GIGSEA StartedAt: 2021-10-14 14:31:52 -0400 (Thu, 14 Oct 2021) EndedAt: 2021-10-14 14:32:16 -0400 (Thu, 14 Oct 2021) EllapsedTime: 24.2 seconds RetCode: 1 Status: ERROR PackageFile: None PackageFileSize: NA