Package: GISPA Version: 1.16.0 Command: /home/biocbuild/bbs-3.13-bioc/R/bin/R CMD INSTALL GISPA StartedAt: 2021-10-14 06:17:28 -0400 (Thu, 14 Oct 2021) EndedAt: 2021-10-14 06:17:48 -0400 (Thu, 14 Oct 2021) EllapsedTime: 20.2 seconds RetCode: 0 Status: OK