Package: GLAD Version: 2.56.0 Command: rm -rf GLAD.buildbin-libdir && mkdir GLAD.buildbin-libdir && /Users/biocbuild/BBS/utils/build-universal.sh GLAD_2.56.0.tar.gz /Library/Frameworks/R.framework/Versions/Current/Resources/bin/R GLAD.buildbin-libdir StartedAt: 2021-10-15 02:35:53 -0400 (Fri, 15 Oct 2021) EndedAt: 2021-10-15 02:37:02 -0400 (Fri, 15 Oct 2021) EllapsedTime: 69.6 seconds RetCode: 0 Status: OK PackageFile: GLAD_2.56.0.tgz PackageFileSize: 1.349 MiB