Package: GLAD Version: 2.56.0 Command: /home/biocbuild/bbs-3.13-bioc/R/bin/R CMD build --keep-empty-dirs --no-resave-data GLAD StartedAt: 2021-10-14 07:22:09 -0400 (Thu, 14 Oct 2021) EndedAt: 2021-10-14 07:22:25 -0400 (Thu, 14 Oct 2021) EllapsedTime: 16.1 seconds RetCode: 0 Status: OK PackageFile: GLAD_2.56.0.tar.gz PackageFileSize: 1.192 MiB