Package: GLAD Version: 2.56.0 Command: /home/biocbuild/bbs-3.13-bioc/R/bin/R CMD check --install=check:GLAD.install-out.txt --library=/home/biocbuild/bbs-3.13-bioc/R/library --no-vignettes --timings GLAD_2.56.0.tar.gz StartedAt: 2021-10-14 10:01:59 -0400 (Thu, 14 Oct 2021) EndedAt: 2021-10-14 10:02:21 -0400 (Thu, 14 Oct 2021) EllapsedTime: 22.2 seconds RetCode: 0 Status: WARNINGS CheckDir: GLAD.Rcheck Warnings: 1