Package: GNET2 Version: 1.8.0 Command: C:\Users\biocbuild\bbs-3.13-bioc\R\bin\R.exe CMD check --force-multiarch --install=check:GNET2.install-out.txt --library=C:\Users\biocbuild\bbs-3.13-bioc\R\library --no-vignettes --timings GNET2_1.8.0.tar.gz StartedAt: 2021-10-14 23:56:55 -0400 (Thu, 14 Oct 2021) EndedAt: 2021-10-15 00:00:58 -0400 (Fri, 15 Oct 2021) EllapsedTime: 243.6 seconds RetCode: 0 Status: OK CheckDir: GNET2.Rcheck Warnings: 0