Package: GOexpress Version: 1.26.0 Command: /Library/Frameworks/R.framework/Versions/Current/Resources/bin/R CMD build --keep-empty-dirs --no-resave-data GOexpress StartedAt: 2021-10-14 12:21:25 -0400 (Thu, 14 Oct 2021) EndedAt: 2021-10-14 12:22:16 -0400 (Thu, 14 Oct 2021) EllapsedTime: 51.0 seconds RetCode: 0 Status: OK PackageFile: GOexpress_1.26.0.tar.gz PackageFileSize: 2.331 MiB