Package: GOexpress Version: 1.26.0 Command: /home/biocbuild/bbs-3.13-bioc/R/bin/R CMD check --install=check:GOexpress.install-out.txt --library=/home/biocbuild/bbs-3.13-bioc/R/library --no-vignettes --timings GOexpress_1.26.0.tar.gz StartedAt: 2021-10-14 10:03:12 -0400 (Thu, 14 Oct 2021) EndedAt: 2021-10-14 10:05:09 -0400 (Thu, 14 Oct 2021) EllapsedTime: 117.9 seconds RetCode: 0 Status: OK CheckDir: GOexpress.Rcheck Warnings: 0