Package: GOexpress Version: 1.26.0 Command: chmod a+r GOexpress -R && C:\Users\biocbuild\bbs-3.13-bioc\R\bin\R.exe CMD build --keep-empty-dirs --no-resave-data GOexpress StartedAt: 2021-10-14 14:34:42 -0400 (Thu, 14 Oct 2021) EndedAt: 2021-10-14 14:35:28 -0400 (Thu, 14 Oct 2021) EllapsedTime: 46.0 seconds RetCode: 0 Status: OK PackageFile: GOexpress_1.26.0.tar.gz PackageFileSize: 2.333 MiB