Package: GOpro Version: 1.18.0 Command: chmod a+r GOpro -R && C:\Users\biocbuild\bbs-3.13-bioc\R\bin\R.exe CMD build --keep-empty-dirs --no-resave-data GOpro StartedAt: 2021-10-14 14:35:28 -0400 (Thu, 14 Oct 2021) EndedAt: 2021-10-14 14:36:38 -0400 (Thu, 14 Oct 2021) EllapsedTime: 69.4 seconds RetCode: 0 Status: OK PackageFile: GOpro_1.18.0.tar.gz PackageFileSize: 1.004 MiB