Package: GOsummaries Version: 2.28.0 Command: /Library/Frameworks/R.framework/Versions/Current/Resources/bin/R CMD build --keep-empty-dirs --no-resave-data GOsummaries StartedAt: 2021-10-14 12:23:54 -0400 (Thu, 14 Oct 2021) EndedAt: 2021-10-14 12:24:35 -0400 (Thu, 14 Oct 2021) EllapsedTime: 40.7 seconds RetCode: 0 Status: OK PackageFile: GOsummaries_2.28.0.tar.gz PackageFileSize: 2.382 MiB