Package: GOsummaries Version: 2.28.0 Command: /Library/Frameworks/R.framework/Versions/Current/Resources/bin/R CMD check --install=check:GOsummaries.install-out.txt --library=/Library/Frameworks/R.framework/Versions/Current/Resources/library --no-vignettes --timings GOsummaries_2.28.0.tar.gz StartedAt: 2021-10-14 19:42:43 -0400 (Thu, 14 Oct 2021) EndedAt: 2021-10-14 19:43:46 -0400 (Thu, 14 Oct 2021) EllapsedTime: 62.1 seconds RetCode: 0 Status: OK CheckDir: GOsummaries.Rcheck Warnings: 0