Package: GOsummaries Version: 2.28.0 Command: /home/biocbuild/bbs-3.13-bioc/R/bin/R CMD check --install=check:GOsummaries.install-out.txt --library=/home/biocbuild/bbs-3.13-bioc/R/library --no-vignettes --timings GOsummaries_2.28.0.tar.gz StartedAt: 2021-10-14 10:04:06 -0400 (Thu, 14 Oct 2021) EndedAt: 2021-10-14 10:04:42 -0400 (Thu, 14 Oct 2021) EllapsedTime: 35.9 seconds RetCode: 0 Status: OK CheckDir: GOsummaries.Rcheck Warnings: 0