Package: GOsummaries Version: 2.28.0 Command: /home/biocbuild/bbs-3.13-bioc/R/bin/R CMD INSTALL GOsummaries StartedAt: 2021-10-14 06:06:51 -0400 (Thu, 14 Oct 2021) EndedAt: 2021-10-14 06:07:02 -0400 (Thu, 14 Oct 2021) EllapsedTime: 11.7 seconds RetCode: 0 Status: OK