git_url: https://git.bioconductor.org/packages/GRridge git_branch: RELEASE_3_13 git_last_commit: 45dab71 git_last_commit_date: 2021-05-19 12:24:38 -0400 (Wed, 19 May 2021) Package: GRridge Version: 1.16.0 Maintainer: Mark A. van de Wiel MaintainerEmail: mark.vdwiel at vumc.nl