Package: GRridge Version: 1.16.0 Command: rm -rf GRridge.buildbin-libdir && mkdir GRridge.buildbin-libdir && /Users/biocbuild/BBS/utils/build-universal.sh GRridge_1.16.0.tar.gz /Library/Frameworks/R.framework/Versions/Current/Resources/bin/R GRridge.buildbin-libdir StartedAt: 2021-10-15 02:39:31 -0400 (Fri, 15 Oct 2021) EndedAt: 2021-10-15 02:40:29 -0400 (Fri, 15 Oct 2021) EllapsedTime: 57.9 seconds RetCode: 0 Status: OK PackageFile: GRridge_1.16.0.tgz PackageFileSize: 9.033 MiB