Package: GRridge Version: 1.16.0 Command: /Library/Frameworks/R.framework/Versions/Current/Resources/bin/R CMD build --keep-empty-dirs --no-resave-data GRridge StartedAt: 2021-10-14 12:27:45 -0400 (Thu, 14 Oct 2021) EndedAt: 2021-10-14 12:28:18 -0400 (Thu, 14 Oct 2021) EllapsedTime: 33.1 seconds RetCode: 0 Status: OK PackageFile: GRridge_1.16.0.tar.gz PackageFileSize: 8.91 MiB