Package: GRridge Version: 1.16.0 Command: /home/biocbuild/bbs-3.13-bioc/R/bin/R CMD build --keep-empty-dirs --no-resave-data GRridge StartedAt: 2021-10-14 07:24:42 -0400 (Thu, 14 Oct 2021) EndedAt: 2021-10-14 07:24:58 -0400 (Thu, 14 Oct 2021) EllapsedTime: 15.6 seconds RetCode: 0 Status: OK PackageFile: GRridge_1.16.0.tar.gz PackageFileSize: 8.903 MiB