git_url: https://git.bioconductor.org/packages/GSALightning git_branch: RELEASE_3_13 git_last_commit: 05ff5ee git_last_commit_date: 2021-05-19 12:17:18 -0400 (Wed, 19 May 2021) Package: GSALightning Version: 1.20.0 Maintainer: Billy Heung Wing Chang MaintainerEmail: billyheungwing at gmail.com