Package: GSALightning Version: 1.20.0 Command: rm -rf GSALightning.buildbin-libdir && mkdir GSALightning.buildbin-libdir && /Users/biocbuild/BBS/utils/build-universal.sh GSALightning_1.20.0.tar.gz /Library/Frameworks/R.framework/Versions/Current/Resources/bin/R GSALightning.buildbin-libdir StartedAt: 2021-10-15 02:39:36 -0400 (Fri, 15 Oct 2021) EndedAt: 2021-10-15 02:40:35 -0400 (Fri, 15 Oct 2021) EllapsedTime: 58.4 seconds RetCode: 0 Status: OK PackageFile: GSALightning_1.20.0.tgz PackageFileSize: 4.261 MiB