Package: GSALightning Version: 1.20.0 Command: /home/biocbuild/bbs-3.13-bioc/R/bin/R CMD build --keep-empty-dirs --no-resave-data GSALightning StartedAt: 2021-10-14 07:24:58 -0400 (Thu, 14 Oct 2021) EndedAt: 2021-10-14 07:26:00 -0400 (Thu, 14 Oct 2021) EllapsedTime: 62.1 seconds RetCode: 0 Status: OK PackageFile: GSALightning_1.20.0.tar.gz PackageFileSize: 4.227 MiB