Package: GSALightning Version: 1.20.0 Command: chmod a+r GSALightning -R && C:\Users\biocbuild\bbs-3.13-bioc\R\bin\R.exe CMD build --keep-empty-dirs --no-resave-data GSALightning StartedAt: 2021-10-14 14:41:37 -0400 (Thu, 14 Oct 2021) EndedAt: 2021-10-14 14:42:57 -0400 (Thu, 14 Oct 2021) EllapsedTime: 79.5 seconds RetCode: 0 Status: OK PackageFile: GSALightning_1.20.0.tar.gz PackageFileSize: 4.219 MiB