git_url: https://git.bioconductor.org/packages/GSEABase git_branch: RELEASE_3_13 git_last_commit: 5b59f70 git_last_commit_date: 2021-05-19 11:39:15 -0400 (Wed, 19 May 2021) Package: GSEABase Version: 1.54.0 Maintainer: Bioconductor Package Maintainer MaintainerEmail: maintainer at bioconductor.org